BEGIN:VCALENDAR
VERSION:2.0
PRODID:-//Plone.org//NONSGML plone.app.event//EN
X-WR-TIMEZONE:Europe/Madrid
BEGIN:VEVENT
SUMMARY:Descoberta de l'entorn: Passejada per les masies de Canet
DTSTART;TZID=Europe/Madrid;VALUE=DATE-TIME:20140316T093000
DTEND;TZID=Europe/Madrid;VALUE=DATE-TIME:20140316T103000
DTSTAMP;VALUE=DATE-TIME:20260424T152918Z
UID:75f440f10abb614e57a7988c2cb95554
CREATED;VALUE=DATE-TIME:20140316T000000Z
LOCATION:plaça 11 de Setembre
ORGANIZER:Fot-li castanya! - ACPO i Casa museu Lluís Domènech i Montaner
URL:https://www.canetdemar.cat/document.php?id=11496
END:VEVENT
END:VCALENDAR