BEGIN:VCALENDAR
VERSION:2.0
PRODID:-//Plone.org//NONSGML plone.app.event//EN
X-WR-TIMEZONE:Europe/Madrid
BEGIN:VEVENT
SUMMARY:Jornada de portes obertes de l'Escola Turó del drac
DTSTART;TZID=Europe/Madrid;VALUE=DATE-TIME:20140309T110000
DTEND;TZID=Europe/Madrid;VALUE=DATE-TIME:20140309T120000
DTSTAMP;VALUE=DATE-TIME:20260425T174132Z
UID:bdf8f6d8758d98c40ee6241eb582dc66
CREATED;VALUE=DATE-TIME:20140309T000000Z
LOCATION:escola Turó del drac - avinguda Ferrer de Canet 11-13
COMMENT:Durada: d'11.00 a 13.00 hores
URL:https://www.canetdemar.cat/document.php?id=11487
END:VEVENT
END:VCALENDAR