BEGIN:VCALENDAR
VERSION:2.0
PRODID:-//Plone.org//NONSGML plone.app.event//EN
X-WR-TIMEZONE:Europe/Madrid
BEGIN:VEVENT
SUMMARY:Consell Escolar Municipal
DTSTART;TZID=Europe/Madrid;VALUE=DATE-TIME:20140213T173000
DTEND;TZID=Europe/Madrid;VALUE=DATE-TIME:20140213T183000
DTSTAMP;VALUE=DATE-TIME:20260423T120901Z
UID:338558cfac51a74005b94af3223c1dbc
CREATED;VALUE=DATE-TIME:20140213T000000Z
LOCATION:Sala de plens de l'Ajuntament
URL:https://www.canetdemar.cat/document.php?id=11465
END:VEVENT
END:VCALENDAR