BEGIN:VCALENDAR
VERSION:2.0
PRODID:-//Plone.org//NONSGML plone.app.event//EN
X-WR-TIMEZONE:Europe/Madrid
BEGIN:VEVENT
SUMMARY:Exposició de Victòria Ibars
DTSTART;TZID=Europe/Madrid;VALUE=DATE-TIME:20041005T000000
DTEND;TZID=Europe/Madrid;VALUE=DATE-TIME:20041005T010000
DTSTAMP;VALUE=DATE-TIME:20260422T092224Z
UID:6d1aa5e88c4cd58fa26073d1cec4c7b2
CREATED;VALUE=DATE-TIME:20041005T000000Z
URL:https://www.canetdemar.cat/document.php?id=1144
END:VEVENT
END:VCALENDAR