BEGIN:VCALENDAR
VERSION:2.0
PRODID:-//Plone.org//NONSGML plone.app.event//EN
X-WR-TIMEZONE:Europe/Madrid
BEGIN:VEVENT
SUMMARY:Mercat d'intercanvi i 2 mà d'Estiu
DTSTART;TZID=Europe/Madrid;VALUE=DATE-TIME:20140615T100000
DTEND;TZID=Europe/Madrid;VALUE=DATE-TIME:20140615T110000
DTSTAMP;VALUE=DATE-TIME:20260425T222553Z
UID:d1368ff01b7bee21ed667152cef5ebc9
CREATED;VALUE=DATE-TIME:20140615T000000Z
LOCATION:plaça Universitat
ORGANIZER:Àrea de Medi Ambient
COMMENT:Durada: de 10.00 a 14.00 hores
URL:https://www.canetdemar.cat/document.php?id=11396
END:VEVENT
END:VCALENDAR