BEGIN:VCALENDAR
VERSION:2.0
PRODID:-//Plone.org//NONSGML plone.app.event//EN
X-WR-TIMEZONE:Europe/Madrid
BEGIN:VEVENT
SUMMARY:Hora del conte: Ratetes
DTSTART;TZID=Europe/Madrid;VALUE=DATE-TIME:20140322T120000
DTEND;TZID=Europe/Madrid;VALUE=DATE-TIME:20140322T130000
DTSTAMP;VALUE=DATE-TIME:20260419T192345Z
UID:6019439edede7df2c0ad9bb8269ce665
CREATED;VALUE=DATE-TIME:20140322T000000Z
CATEGORIES:Infantils
LOCATION:Biblioteca
URL:https://www.canetdemar.cat/document.php?id=11381
END:VEVENT
END:VCALENDAR