BEGIN:VCALENDAR
VERSION:2.0
PRODID:-//Plone.org//NONSGML plone.app.event//EN
X-WR-TIMEZONE:Europe/Madrid
BEGIN:VEVENT
SUMMARY:Exposició: Els feminismes de Feminal
DTSTART;TZID=Europe/Madrid;VALUE=DATE-TIME:20140311T000000
DTEND;TZID=Europe/Madrid;VALUE=DATE-TIME:20140311T010000
DTSTAMP;VALUE=DATE-TIME:20260422T053610Z
UID:2751c06fed886409709bc3606c12da2c
CREATED;VALUE=DATE-TIME:20140311T000000Z
CATEGORIES:Exposició
LOCATION:Biblioteca
COMMENT:Durada: fins al 31 març
URL:https://www.canetdemar.cat/document.php?id=11362
END:VEVENT
END:VCALENDAR