BEGIN:VCALENDAR
VERSION:2.0
PRODID:-//Plone.org//NONSGML plone.app.event//EN
X-WR-TIMEZONE:Europe/Madrid
BEGIN:VEVENT
SUMMARY:Dansa d'agost
DTSTART;TZID=Europe/Madrid;VALUE=DATE-TIME:20140316T181500
DTEND;TZID=Europe/Madrid;VALUE=DATE-TIME:20140316T191500
DTSTAMP;VALUE=DATE-TIME:20260422T221934Z
UID:5d31da14c57e2078b8d2c732ae72fbc0
CREATED;VALUE=DATE-TIME:20140316T000000Z
LOCATION:Centre Parroquial
ORGANIZER:Centre Parroquial
DESCRIPTION:XL Concurs de Teatre aficionat Premi Pedracastell
URL:https://www.canetdemar.cat/document.php?id=11356
END:VEVENT
END:VCALENDAR