BEGIN:VCALENDAR
VERSION:2.0
PRODID:-//Plone.org//NONSGML plone.app.event//EN
X-WR-TIMEZONE:Europe/Madrid
BEGIN:VEVENT
SUMMARY:Tallers per al dia dels Enamorats
DTSTART;TZID=Europe/Madrid;VALUE=DATE-TIME:20140214T110000
DTEND;TZID=Europe/Madrid;VALUE=DATE-TIME:20140214T120000
DTSTAMP;VALUE=DATE-TIME:20260422T093136Z
UID:2e52875fe99a37378d0f396ccc09f602
CREATED;VALUE=DATE-TIME:20140214T000000Z
LOCATION:Saüc 35
ORGANIZER:Associació Mares Malabaristes
COMMENT:Durada: Durant tot el dia
URL:https://www.canetdemar.cat/document.php?id=11343
END:VEVENT
END:VCALENDAR