BEGIN:VCALENDAR
VERSION:2.0
PRODID:-//Plone.org//NONSGML plone.app.event//EN
X-WR-TIMEZONE:Europe/Madrid
BEGIN:VEVENT
SUMMARY:Classes de funky
DTSTART;TZID=Europe/Madrid;VALUE=DATE-TIME:20140303T201500
DTEND;TZID=Europe/Madrid;VALUE=DATE-TIME:20140303T211500
DTSTAMP;VALUE=DATE-TIME:20260419T192043Z
UID:7438fc69921521f7176e4b5142cfd4c4
CREATED;VALUE=DATE-TIME:20140303T000000Z
LOCATION:Saüc 35
ORGANIZER:Associació Cultural Mares malabaristes
COMMENT:Preu: 25 euros/mes per persona. 35 euros/més dues persones de la mateixa família
Durada: de 20.15 a 21.15 hores
URL:https://www.canetdemar.cat/document.php?id=11334
END:VEVENT
END:VCALENDAR