BEGIN:VCALENDAR
VERSION:2.0
PRODID:-//Plone.org//NONSGML plone.app.event//EN
X-WR-TIMEZONE:Europe/Madrid
BEGIN:VEVENT
SUMMARY:Fira d'artesania
DTSTART;TZID=Europe/Madrid;VALUE=DATE-TIME:20140202T100000
DTEND;TZID=Europe/Madrid;VALUE=DATE-TIME:20140202T110000
DTSTAMP;VALUE=DATE-TIME:20260424T171049Z
UID:9d4d877e26f673725b351c82e893d5fa
CREATED;VALUE=DATE-TIME:20140202T000000Z
LOCATION:riera Sant Domènec
ORGANIZER:Àrea de Promoció Econòmica
COMMENT:Durada: 1 i 2 de febrer
URL:https://www.canetdemar.cat/document.php?id=11332
END:VEVENT
END:VCALENDAR