BEGIN:VCALENDAR
VERSION:2.0
PRODID:-//Plone.org//NONSGML plone.app.event//EN
X-WR-TIMEZONE:Europe/Madrid
BEGIN:VEVENT
SUMMARY:Arribo
DTSTART;TZID=Europe/Madrid;VALUE=DATE-TIME:20140228T200000
DTEND;TZID=Europe/Madrid;VALUE=DATE-TIME:20140228T210000
DTSTAMP;VALUE=DATE-TIME:20260423T183420Z
UID:7e3bb65607cc963b52403b5ab02d6075
CREATED;VALUE=DATE-TIME:20140228T000000Z
DESCRIPTION:Carnaval 2014
URL:https://www.canetdemar.cat/document.php?id=11330
END:VEVENT
END:VCALENDAR