BEGIN:VCALENDAR
VERSION:2.0
PRODID:-//Plone.org//NONSGML plone.app.event//EN
X-WR-TIMEZONE:Europe/Madrid
BEGIN:VEVENT
SUMMARY:Trobada de plaques de cava
DTSTART;TZID=Europe/Madrid;VALUE=DATE-TIME:20140202T100000
DTEND;TZID=Europe/Madrid;VALUE=DATE-TIME:20140202T110000
DTSTAMP;VALUE=DATE-TIME:20260422T221623Z
UID:20eb0631a04e66a1e40ed732b9d730e8
CREATED;VALUE=DATE-TIME:20140202T000000Z
LOCATION:riera Sant Domènec
ORGANIZER:Àrea de Promoció Econòmica
COMMENT:Durada: de 10.00 a 14.00 hores
URL:https://www.canetdemar.cat/document.php?id=11316
END:VEVENT
END:VCALENDAR