BEGIN:VCALENDAR
VERSION:2.0
PRODID:-//Plone.org//NONSGML plone.app.event//EN
X-WR-TIMEZONE:Europe/Madrid
BEGIN:VEVENT
SUMMARY:Classes de ball de saló
DTSTART;TZID=Europe/Madrid;VALUE=DATE-TIME:20140120T000000
DTEND;TZID=Europe/Madrid;VALUE=DATE-TIME:20140120T010000
DTSTAMP;VALUE=DATE-TIME:20260423T185935Z
UID:e623d2b34161ab6fd45eedec1f3c4c5b
CREATED;VALUE=DATE-TIME:20140120T000000Z
ORGANIZER:Amisc del ball
URL:https://www.canetdemar.cat/document.php?id=11315
END:VEVENT
END:VCALENDAR