BEGIN:VCALENDAR
VERSION:2.0
PRODID:-//Plone.org//NONSGML plone.app.event//EN
X-WR-TIMEZONE:Europe/Madrid
BEGIN:VEVENT
SUMMARY:Diumenges de ball
DTSTART;TZID=Europe/Madrid;VALUE=DATE-TIME:20140216T190000
DTEND;TZID=Europe/Madrid;VALUE=DATE-TIME:20140216T200000
DTSTAMP;VALUE=DATE-TIME:20260424T053736Z
UID:39a54bc614c19f81b4e0803e3d0e1a06
CREATED;VALUE=DATE-TIME:20140216T000000Z
LOCATION:Envelat de Vil·la Flora
ORGANIZER:Amics del ball
URL:https://www.canetdemar.cat/document.php?id=11313
END:VEVENT
END:VCALENDAR