BEGIN:VCALENDAR
VERSION:2.0
PRODID:-//Plone.org//NONSGML plone.app.event//EN
X-WR-TIMEZONE:Europe/Madrid
BEGIN:VEVENT
SUMMARY:Descoberta dels rials de Canet: rial del Sant Crist &ndash; Rial de Can Sagarra
DTSTART;TZID=Europe/Madrid;VALUE=DATE-TIME:20140112T093000
DTEND;TZID=Europe/Madrid;VALUE=DATE-TIME:20140112T103000
DTSTAMP;VALUE=DATE-TIME:20260424T125623Z
UID:ee29778b495034992158927b77f8a258
CREATED;VALUE=DATE-TIME:20140112T000000Z
LOCATION:plaça Colomer
URL:https://www.canetdemar.cat/document.php?id=11250
END:VEVENT
END:VCALENDAR