BEGIN:VCALENDAR
VERSION:2.0
PRODID:-//Plone.org//NONSGML plone.app.event//EN
X-WR-TIMEZONE:Europe/Madrid
BEGIN:VEVENT
SUMMARY:17è Cros de Canet - Circuit maresmenc de Cros
DTSTART;TZID=Europe/Madrid;VALUE=DATE-TIME:20140119T100000
DTEND;TZID=Europe/Madrid;VALUE=DATE-TIME:20140119T110000
DTSTAMP;VALUE=DATE-TIME:20260422T070853Z
UID:08c4ce3fbb419fb2ea31899919010b68
CREATED;VALUE=DATE-TIME:20140119T000000Z
LOCATION:Pla d'en Sala
ORGANIZER:Gesport - Gestió Esportiva del Maresme
URL:https://www.canetdemar.cat/document.php?id=11244
END:VEVENT
END:VCALENDAR