BEGIN:VCALENDAR
VERSION:2.0
PRODID:-//Plone.org//NONSGML plone.app.event//EN
X-WR-TIMEZONE:Europe/Madrid
BEGIN:VEVENT
SUMMARY:Ball a l'envelat
DTSTART;TZID=Europe/Madrid;VALUE=DATE-TIME:20140124T183000
DTEND;TZID=Europe/Madrid;VALUE=DATE-TIME:20140124T193000
DTSTAMP;VALUE=DATE-TIME:20260424T130327Z
UID:cbbacbdf99c90f2586cf1867ce969fb0
CREATED;VALUE=DATE-TIME:20140124T000000Z
LOCATION:Envelat de Vil·la Flora
ORGANIZER:Associació de jubilats i pensionistes
COMMENT:Preu: 2 euros
URL:https://www.canetdemar.cat/document.php?id=11236
END:VEVENT
END:VCALENDAR