BEGIN:VCALENDAR
VERSION:2.0
PRODID:-//Plone.org//NONSGML plone.app.event//EN
X-WR-TIMEZONE:Europe/Madrid
BEGIN:VEVENT
SUMMARY:Visita guiada al Castell de Santa Florentina
DTSTART;TZID=Europe/Madrid;VALUE=DATE-TIME:20140125T103000
DTEND;TZID=Europe/Madrid;VALUE=DATE-TIME:20140125T113000
DTSTAMP;VALUE=DATE-TIME:20260422T182536Z
UID:4de88ada2fccbb60a449a0de6d579ab9
CREATED;VALUE=DATE-TIME:20140125T000000Z
LOCATION:Davant del Castell
ORGANIZER:Casa museu Lluís Domènech i Montaner
COMMENT:Preu: 9 euros
URL:https://www.canetdemar.cat/document.php?id=11233
END:VEVENT
END:VCALENDAR