BEGIN:VCALENDAR
VERSION:2.0
PRODID:-//Plone.org//NONSGML plone.app.event//EN
X-WR-TIMEZONE:Europe/Madrid
BEGIN:VEVENT
SUMMARY:La música al cinema i a la literatura (activitat ajornada)
DTSTART;TZID=Europe/Madrid;VALUE=DATE-TIME:20140204T180000
DTEND;TZID=Europe/Madrid;VALUE=DATE-TIME:20140204T190000
DTSTAMP;VALUE=DATE-TIME:20260423T140320Z
UID:69253f9e396d6725bd3c9c1429c3a1b9
CREATED;VALUE=DATE-TIME:20140204T000000Z
CATEGORIES:Cursos
LOCATION:Biblioteca
ORGANIZER:col.lectiu Tres Volteretas
COMMENT:Preu: 36 euros
Durada: 6 sessions
DESCRIPTION:taller intensiu
URL:https://www.canetdemar.cat/document.php?id=11198
END:VEVENT
END:VCALENDAR