BEGIN:VCALENDAR
VERSION:2.0
PRODID:-//Plone.org//NONSGML plone.app.event//EN
X-WR-TIMEZONE:Europe/Madrid
BEGIN:VEVENT
SUMMARY:Anglès i Català bàsic
DTSTART;TZID=Europe/Madrid;VALUE=DATE-TIME:20140102T000000
DTEND;TZID=Europe/Madrid;VALUE=DATE-TIME:20140102T010000
DTSTAMP;VALUE=DATE-TIME:20260424T041816Z
UID:4deb613bd42de008d8f0d579d2900f37
CREATED;VALUE=DATE-TIME:20140102T000000Z
ORGANIZER:Sàlvia, associació de dones
DESCRIPTION:Cursos Sàlvia
URL:https://www.canetdemar.cat/document.php?id=11187
END:VEVENT
END:VCALENDAR