BEGIN:VCALENDAR
VERSION:2.0
PRODID:-//Plone.org//NONSGML plone.app.event//EN
X-WR-TIMEZONE:Europe/Madrid
BEGIN:VEVENT
SUMMARY:Canet obert al món: BRASIL
DTSTART;TZID=Europe/Madrid;VALUE=DATE-TIME:20040925T220000
DTEND;TZID=Europe/Madrid;VALUE=DATE-TIME:20040925T230000
DTSTAMP;VALUE=DATE-TIME:20260424T115502Z
UID:2ddb748886950b0644ead9d338eff3c5
CREATED;VALUE=DATE-TIME:20040925T000000Z
DESCRIPTION:Festa brasilera
URL:https://www.canetdemar.cat/document.php?id=1118
END:VEVENT
END:VCALENDAR