BEGIN:VCALENDAR
VERSION:2.0
PRODID:-//Plone.org//NONSGML plone.app.event//EN
X-WR-TIMEZONE:Europe/Madrid
BEGIN:VEVENT
SUMMARY:Cinema per a nens: Kiriku
DTSTART;TZID=Europe/Madrid;VALUE=DATE-TIME:20140104T173000
DTEND;TZID=Europe/Madrid;VALUE=DATE-TIME:20140104T183000
DTSTAMP;VALUE=DATE-TIME:20260422T130200Z
UID:a2aa188246bd53df825a0eaac79a7d2f
CREATED;VALUE=DATE-TIME:20140104T000000Z
LOCATION:carrer Saüc 35
ORGANIZER:Associació Cultural de mares malabaristes
COMMENT:Preu: 3 euros
URL:https://www.canetdemar.cat/document.php?id=11111
END:VEVENT
END:VCALENDAR