BEGIN:VCALENDAR
VERSION:2.0
PRODID:-//Plone.org//NONSGML plone.app.event//EN
X-WR-TIMEZONE:Europe/Madrid
BEGIN:VEVENT
SUMMARY:Tallers de ball - especial Nadal
DTSTART;TZID=Europe/Madrid;VALUE=DATE-TIME:20131227T110000
DTEND;TZID=Europe/Madrid;VALUE=DATE-TIME:20131227T120000
DTSTAMP;VALUE=DATE-TIME:20260424T181037Z
UID:5d06ff3e2246d188bc6a1ee8b687b7b5
CREATED;VALUE=DATE-TIME:20131227T000000Z
ORGANIZER:Assoaciació Cultural de mares malabaristes
COMMENT:Preu: 1 sessió, 6 euros. 4 sessions, 20 euros
URL:https://www.canetdemar.cat/document.php?id=11110
END:VEVENT
END:VCALENDAR