BEGIN:VCALENDAR
VERSION:2.0
PRODID:-//Plone.org//NONSGML plone.app.event//EN
X-WR-TIMEZONE:Europe/Madrid
BEGIN:VEVENT
SUMMARY:Sortida: Pessebre vivent de Premià de Dalt
DTSTART;TZID=Europe/Madrid;VALUE=DATE-TIME:20131221T180000
DTEND;TZID=Europe/Madrid;VALUE=DATE-TIME:20131221T190000
DTSTAMP;VALUE=DATE-TIME:20260422T234936Z
UID:834aa5a541c2d5461993e0e8ae7f8973
CREATED;VALUE=DATE-TIME:20131221T000000Z
LOCATION:Parada bus Comediants
ORGANIZER:Sàlvia Associació de dones
COMMENT:Preu: a determinar
URL:https://www.canetdemar.cat/document.php?id=11085
END:VEVENT
END:VCALENDAR