BEGIN:VCALENDAR
VERSION:2.0
PRODID:-//Plone.org//NONSGML plone.app.event//EN
X-WR-TIMEZONE:Europe/Madrid
BEGIN:VEVENT
SUMMARY:Espriu - Salom
DTSTART;TZID=Europe/Madrid;VALUE=DATE-TIME:20131213T213000
DTEND;TZID=Europe/Madrid;VALUE=DATE-TIME:20131213T223000
DTSTAMP;VALUE=DATE-TIME:20260424T211749Z
UID:a9d742d2f1744f6713a2c6f6f1d8213e
CREATED;VALUE=DATE-TIME:20131213T000000Z
CATEGORIES:Literatura
LOCATION:Biblioteca
ORGANIZER:Tastacontes
DESCRIPTION:Tastacontes. Lectura de textos
URL:https://www.canetdemar.cat/document.php?id=11080
END:VEVENT
END:VCALENDAR