BEGIN:VCALENDAR
VERSION:2.0
PRODID:-//Plone.org//NONSGML plone.app.event//EN
X-WR-TIMEZONE:Europe/Madrid
BEGIN:VEVENT
SUMMARY:Música de l'Arxiu. Tomàs Milans i Godayol (1672 - 1742). Antològica I
DTSTART;TZID=Europe/Madrid;VALUE=DATE-TIME:20131123T213000
DTEND;TZID=Europe/Madrid;VALUE=DATE-TIME:20131123T223000
DTSTAMP;VALUE=DATE-TIME:20260422T231940Z
UID:dcf144fa80f245aacc172208cf62d3e1
CREATED;VALUE=DATE-TIME:20131123T000000Z
CATEGORIES:Música
LOCATION:Parròquia de Sant Pere i Sant Pau
ORGANIZER:Àrea de Cultura
COMMENT:Preu: Gratuït
URL:https://www.canetdemar.cat/document.php?id=11076
END:VEVENT
END:VCALENDAR