BEGIN:VCALENDAR
VERSION:2.0
PRODID:-//Plone.org//NONSGML plone.app.event//EN
X-WR-TIMEZONE:Europe/Madrid
BEGIN:VEVENT
SUMMARY:Parlem amb ... Emili Teixidor
DTSTART;TZID=Europe/Madrid;VALUE=DATE-TIME:20040917T200000
DTEND;TZID=Europe/Madrid;VALUE=DATE-TIME:20040917T210000
DTSTAMP;VALUE=DATE-TIME:20260424T024438Z
UID:9a8baec3be416a4f1ea46268c4592f6a
CREATED;VALUE=DATE-TIME:20040917T000000Z
URL:https://www.canetdemar.cat/document.php?id=1103
END:VEVENT
END:VCALENDAR