BEGIN:VCALENDAR
VERSION:2.0
PRODID:-//Plone.org//NONSGML plone.app.event//EN
X-WR-TIMEZONE:Europe/Madrid
BEGIN:VEVENT
SUMMARY:Missa Votiva
DTSTART;TZID=Europe/Madrid;VALUE=DATE-TIME:20040912T190000
DTEND;TZID=Europe/Madrid;VALUE=DATE-TIME:20040912T200000
DTSTAMP;VALUE=DATE-TIME:20260422T162628Z
UID:4f342389bd505040d1f16e3c15e1b1e2
CREATED;VALUE=DATE-TIME:20040912T000000Z
URL:https://www.canetdemar.cat/document.php?id=1102
END:VEVENT
END:VCALENDAR