BEGIN:VCALENDAR
VERSION:2.0
PRODID:-//Plone.org//NONSGML plone.app.event//EN
X-WR-TIMEZONE:Europe/Madrid
BEGIN:VEVENT
SUMMARY:Festa dels panellets
DTSTART;TZID=Europe/Madrid;VALUE=DATE-TIME:20131103T170000
DTEND;TZID=Europe/Madrid;VALUE=DATE-TIME:20131103T180000
DTSTAMP;VALUE=DATE-TIME:20260422T221254Z
UID:25b82127f91326f04998c981c72c2256
CREATED;VALUE=DATE-TIME:20131103T000000Z
LOCATION:Envelat de Vil·la Flora
ORGANIZER:GGespaicaixa - Canet
URL:https://www.canetdemar.cat/document.php?id=11019
END:VEVENT
END:VCALENDAR