BEGIN:VCALENDAR
VERSION:2.0
PRODID:-//Plone.org//NONSGML plone.app.event//EN
X-WR-TIMEZONE:Europe/Madrid
BEGIN:VEVENT
SUMMARY:Vine a donar sang
DTSTART;TZID=Europe/Madrid;VALUE=DATE-TIME:20131109T160000
DTEND;TZID=Europe/Madrid;VALUE=DATE-TIME:20131109T170000
DTSTAMP;VALUE=DATE-TIME:20260423T090220Z
UID:7ac29a50fe81a1e4ab0ceb0a6eb32f33
CREATED;VALUE=DATE-TIME:20131109T000000Z
LOCATION:CAP de Canet de Mar - plaça Universitat
ORGANIZER:Banc de sang i de teixits
URL:https://www.canetdemar.cat/document.php?id=10998
END:VEVENT
END:VCALENDAR