BEGIN:VCALENDAR
VERSION:2.0
PRODID:-//Plone.org//NONSGML plone.app.event//EN
X-WR-TIMEZONE:Europe/Madrid
BEGIN:VEVENT
SUMMARY:Ball de fi d'estiu amb Jade
DTSTART;TZID=Europe/Madrid;VALUE=DATE-TIME:20040911T230000
DTEND;TZID=Europe/Madrid;VALUE=DATE-TIME:20040912T000000
DTSTAMP;VALUE=DATE-TIME:20260421T174142Z
UID:8a0e5823507c6878d82616905cce39da
CREATED;VALUE=DATE-TIME:20040911T000000Z
URL:https://www.canetdemar.cat/document.php?id=1099
END:VEVENT
END:VCALENDAR