BEGIN:VCALENDAR
VERSION:2.0
PRODID:-//Plone.org//NONSGML plone.app.event//EN
X-WR-TIMEZONE:Europe/Madrid
BEGIN:VEVENT
SUMMARY:Diumenges de ball
DTSTART;TZID=Europe/Madrid;VALUE=DATE-TIME:20131110T190000
DTEND;TZID=Europe/Madrid;VALUE=DATE-TIME:20131110T200000
DTSTAMP;VALUE=DATE-TIME:20260421T111318Z
UID:f7c5dd30b7e0bc39e5de5aa27210cd74
CREATED;VALUE=DATE-TIME:20131110T000000Z
LOCATION:Envelat de Vil·la Flora
ORGANIZER:Amics del ball
URL:https://www.canetdemar.cat/document.php?id=10978
END:VEVENT
END:VCALENDAR