BEGIN:VCALENDAR
VERSION:2.0
PRODID:-//Plone.org//NONSGML plone.app.event//EN
X-WR-TIMEZONE:Europe/Madrid
BEGIN:VEVENT
SUMMARY:Llicó inaugural de la UNED. 20è aniversari
DTSTART;TZID=Europe/Madrid;VALUE=DATE-TIME:20131024T190000
DTEND;TZID=Europe/Madrid;VALUE=DATE-TIME:20131024T200000
DTSTAMP;VALUE=DATE-TIME:20260424T023647Z
UID:13c5b7e2ceaa67fca845ad0e5760ae63
CREATED;VALUE=DATE-TIME:20131024T000000Z
LOCATION:Aula Magna CRTTT - Escola de Teixits
DESCRIPTION:1714 Conversa amb Albert Sánchez Piñol
URL:https://www.canetdemar.cat/document.php?id=10965
END:VEVENT
END:VCALENDAR