BEGIN:VCALENDAR
VERSION:2.0
PRODID:-//Plone.org//NONSGML plone.app.event//EN
X-WR-TIMEZONE:Europe/Madrid
BEGIN:VEVENT
SUMMARY:Jornades Gastronòmiques Calamararenys al Maresme 2013
DTSTART;TZID=Europe/Madrid;VALUE=DATE-TIME:20131004T000000
DTEND;TZID=Europe/Madrid;VALUE=DATE-TIME:20131004T010000
DTSTAMP;VALUE=DATE-TIME:20260424T075637Z
UID:dda3b0c80ea2e4e9088fac4a764fff7c
CREATED;VALUE=DATE-TIME:20131004T000000Z
COMMENT:Durada: del 4 al 27 d'octubre
URL:https://www.canetdemar.cat/document.php?id=10941
END:VEVENT
END:VCALENDAR