BEGIN:VCALENDAR
VERSION:2.0
PRODID:-//Plone.org//NONSGML plone.app.event//EN
X-WR-TIMEZONE:Europe/Madrid
BEGIN:VEVENT
SUMMARY:Xerrada de consum sobre Els subministraments a la llar (aigua, llum, gas i telèfon)
DTSTART;TZID=Europe/Madrid;VALUE=DATE-TIME:20131010T173000
DTEND;TZID=Europe/Madrid;VALUE=DATE-TIME:20131010T183000
DTSTAMP;VALUE=DATE-TIME:20260423T085308Z
UID:73b12d7f5f40831e61e91c9c02f4f0f7
CREATED;VALUE=DATE-TIME:20131010T000000Z
ORGANIZER:Àrea de Promoció Econòmica
COMMENT:Durada: de 17.30 a 19.30 hores
URL:https://www.canetdemar.cat/document.php?id=10933
END:VEVENT
END:VCALENDAR