BEGIN:VCALENDAR
VERSION:2.0
PRODID:-//Plone.org//NONSGML plone.app.event//EN
X-WR-TIMEZONE:Europe/Madrid
BEGIN:VEVENT
SUMMARY:Ball a l'esplai
DTSTART;TZID=Europe/Madrid;VALUE=DATE-TIME:20131020T180000
DTEND;TZID=Europe/Madrid;VALUE=DATE-TIME:20131020T190000
DTSTAMP;VALUE=DATE-TIME:20260424T112340Z
UID:49f09af5d4822028be0d3d28ebcdcda0
CREATED;VALUE=DATE-TIME:20131020T000000Z
LOCATION:carrer Vall 24
ORGANIZER:GGespaicaixa - Canet
URL:https://www.canetdemar.cat/document.php?id=10908
END:VEVENT
END:VCALENDAR