BEGIN:VCALENDAR
VERSION:2.0
PRODID:-//Plone.org//NONSGML plone.app.event//EN
X-WR-TIMEZONE:Europe/Madrid
BEGIN:VEVENT
SUMMARY:Cinefòrum: Intocable
DTSTART;TZID=Europe/Madrid;VALUE=DATE-TIME:20131002T170000
DTEND;TZID=Europe/Madrid;VALUE=DATE-TIME:20131002T180000
DTSTAMP;VALUE=DATE-TIME:20260425T040915Z
UID:9990b894ea057f4baa07b96d02d1dc83
CREATED;VALUE=DATE-TIME:20131002T000000Z
LOCATION:carrer Vall 24
ORGANIZER:GGespaicaixa - Canet
URL:https://www.canetdemar.cat/document.php?id=10904
END:VEVENT
END:VCALENDAR