BEGIN:VCALENDAR
VERSION:2.0
PRODID:-//Plone.org//NONSGML plone.app.event//EN
X-WR-TIMEZONE:Europe/Madrid
BEGIN:VEVENT
SUMMARY:XIV Sardinada Popular
DTSTART;TZID=Europe/Madrid;VALUE=DATE-TIME:20130921T210000
DTEND;TZID=Europe/Madrid;VALUE=DATE-TIME:20130921T220000
DTSTAMP;VALUE=DATE-TIME:20260423T015912Z
UID:a88937dbfc1061ce292857ca963eeb37
CREATED;VALUE=DATE-TIME:20130921T000000Z
CATEGORIES:Festa
LOCATION:Plaça 11 de Setembre
COMMENT:Preu: 5 euros
URL:https://www.canetdemar.cat/document.php?id=10866
END:VEVENT
END:VCALENDAR