BEGIN:VCALENDAR
VERSION:2.0
PRODID:-//Plone.org//NONSGML plone.app.event//EN
X-WR-TIMEZONE:Europe/Madrid
BEGIN:VEVENT
SUMMARY:Concert - concurs de grups novells del Maresme i els voltants
DTSTART;TZID=Europe/Madrid;VALUE=DATE-TIME:20040903T220000
DTEND;TZID=Europe/Madrid;VALUE=DATE-TIME:20040903T230000
DTSTAMP;VALUE=DATE-TIME:20260421T123648Z
UID:773914e1049fd51c111da280edefa833
CREATED;VALUE=DATE-TIME:20040903T000000Z
URL:https://www.canetdemar.cat/document.php?id=1084
END:VEVENT
END:VCALENDAR