BEGIN:VCALENDAR
VERSION:2.0
PRODID:-//Plone.org//NONSGML plone.app.event//EN
X-WR-TIMEZONE:Europe/Madrid
BEGIN:VEVENT
SUMMARY:Torneig d'escacs de la Festa Major Petita
DTSTART;TZID=Europe/Madrid;VALUE=DATE-TIME:20130908T090000
DTEND;TZID=Europe/Madrid;VALUE=DATE-TIME:20130908T100000
DTSTAMP;VALUE=DATE-TIME:20260424T054714Z
UID:194f9079cda2c4e0526f37215c960f46
CREATED;VALUE=DATE-TIME:20130908T000000Z
URL:https://www.canetdemar.cat/document.php?id=10838
END:VEVENT
END:VCALENDAR