BEGIN:VCALENDAR
VERSION:2.0
PRODID:-//Plone.org//NONSGML plone.app.event//EN
X-WR-TIMEZONE:Europe/Madrid
BEGIN:VEVENT
SUMMARY:Véns al teatre? : Un aire de família
DTSTART;TZID=Europe/Madrid;VALUE=DATE-TIME:20131009T184500
DTEND;TZID=Europe/Madrid;VALUE=DATE-TIME:20131009T194500
DTSTAMP;VALUE=DATE-TIME:20260425T022348Z
UID:c3523c4710b5f2c5869c3f6b08aeeeb3
CREATED;VALUE=DATE-TIME:20131009T000000Z
ORGANIZER:Àrea de Cultura
COMMENT:Preu: 29 euros (entrada + autocar)
URL:https://www.canetdemar.cat/document.php?id=10833
END:VEVENT
END:VCALENDAR