BEGIN:VCALENDAR
VERSION:2.0
PRODID:-//Plone.org//NONSGML plone.app.event//EN
X-WR-TIMEZONE:Europe/Madrid
BEGIN:VEVENT
SUMMARY:Ball a l'esplai
DTSTART;TZID=Europe/Madrid;VALUE=DATE-TIME:20130915T180000
DTEND;TZID=Europe/Madrid;VALUE=DATE-TIME:20130915T190000
DTSTAMP;VALUE=DATE-TIME:20260424T220855Z
UID:caedf1f9de354bf101e0802958a65129
CREATED;VALUE=DATE-TIME:20130915T000000Z
LOCATION:Espaicaixa
ORGANIZER:Espaicaixa
URL:https://www.canetdemar.cat/document.php?id=10827
END:VEVENT
END:VCALENDAR