BEGIN:VCALENDAR
VERSION:2.0
PRODID:-//Plone.org//NONSGML plone.app.event//EN
X-WR-TIMEZONE:Europe/Madrid
BEGIN:VEVENT
SUMMARY:Sortida a TV3 al programa Divendres
DTSTART;TZID=Europe/Madrid;VALUE=DATE-TIME:20130903T133000
DTEND;TZID=Europe/Madrid;VALUE=DATE-TIME:20130903T143000
DTSTAMP;VALUE=DATE-TIME:20260422T203800Z
UID:37e384ec860eda5ccb8c704af87ed332
CREATED;VALUE=DATE-TIME:20130903T000000Z
LOCATION:Sortida parada bus Comediants
ORGANIZER:Espaicaixa
URL:https://www.canetdemar.cat/document.php?id=10823
END:VEVENT
END:VCALENDAR