BEGIN:VCALENDAR
VERSION:2.0
PRODID:-//Plone.org//NONSGML plone.app.event//EN
X-WR-TIMEZONE:Europe/Madrid
BEGIN:VEVENT
SUMMARY:Els millors boleros, les millors cançons, la millor música amb Roger Reyes i Trio
DTSTART;TZID=Europe/Madrid;VALUE=DATE-TIME:20130825T190000
DTEND;TZID=Europe/Madrid;VALUE=DATE-TIME:20130825T200000
DTSTAMP;VALUE=DATE-TIME:20260422T203920Z
UID:5a458e158be98079c8fcaf3b83d51c0b
CREATED;VALUE=DATE-TIME:20130825T000000Z
LOCATION:Centre Parroquial
ORGANIZER:Associació de veïns Casc Antic
COMMENT:Preu: Anticipada: 10 euros, a taquilla: 12 euros
URL:https://www.canetdemar.cat/document.php?id=10770
END:VEVENT
END:VCALENDAR