BEGIN:VCALENDAR
VERSION:2.0
PRODID:-//Plone.org//NONSGML plone.app.event//EN
X-WR-TIMEZONE:Europe/Madrid
BEGIN:VEVENT
SUMMARY:Visita guiada al Castell de Santa Florentina
DTSTART;TZID=Europe/Madrid;VALUE=DATE-TIME:20130727T000000
DTEND;TZID=Europe/Madrid;VALUE=DATE-TIME:20130727T010000
DTSTAMP;VALUE=DATE-TIME:20260423T051414Z
UID:cc580729ce434a1c253a4ef1eb8f336e
CREATED;VALUE=DATE-TIME:20130727T000000Z
ORGANIZER:Casa museu Lluís Domènech i Montaner
COMMENT:Preu: 9 euros
URL:https://www.canetdemar.cat/document.php?id=10753
END:VEVENT
END:VCALENDAR