BEGIN:VCALENDAR
VERSION:2.0
PRODID:-//Plone.org//NONSGML plone.app.event//EN
X-WR-TIMEZONE:Europe/Madrid
BEGIN:VEVENT
SUMMARY:Presentació de l&#8217;informe de la Plataforma per la Llengua En español o nada 40 casos greus de discriminació lingüística a les administracions públiques i del llibre ¡En cristiano! de l&#8217;historiador Ignasi Bea
DTSTART;TZID=Europe/Madrid;VALUE=DATE-TIME:20131018T193000
DTEND;TZID=Europe/Madrid;VALUE=DATE-TIME:20131018T203000
DTSTAMP;VALUE=DATE-TIME:20260421T160525Z
UID:360a03d3eadea835ff12fc6e457d24fe
CREATED;VALUE=DATE-TIME:20131018T000000Z
CATEGORIES:Conferència
LOCATION:Sala d´audiovisuals del pavelló esportiu municipal
ORGANIZER:Plataforma per la Llengua Canet de Mar - l'ONG del català
COMMENT:Preu: Gratuït
DESCRIPTION:Activitat del Correllengua 2013
URL:https://www.canetdemar.cat/document.php?id=10739
END:VEVENT
END:VCALENDAR