BEGIN:VCALENDAR
VERSION:2.0
PRODID:-//Plone.org//NONSGML plone.app.event//EN
X-WR-TIMEZONE:Europe/Madrid
BEGIN:VEVENT
SUMMARY:Festa del tomàquet
DTSTART;TZID=Europe/Madrid;VALUE=DATE-TIME:20130728T190000
DTEND;TZID=Europe/Madrid;VALUE=DATE-TIME:20130728T200000
DTSTAMP;VALUE=DATE-TIME:20260426T063229Z
UID:c9addcf3707ed7b1552758339241c369
CREATED;VALUE=DATE-TIME:20130728T000000Z
LOCATION:Plaça Universitat
ORGANIZER:Àrea de Promoció
COMMENT:Preu: tast: 5 euros
Durada: de 19.00 a 21.00 hores
URL:https://www.canetdemar.cat/document.php?id=10690
END:VEVENT
END:VCALENDAR