BEGIN:VCALENDAR
VERSION:2.0
PRODID:-//Plone.org//NONSGML plone.app.event//EN
X-WR-TIMEZONE:Europe/Madrid
BEGIN:VEVENT
SUMMARY:Reunió per tirar endavant el projecte: Cap plat buit a Canet
DTSTART;TZID=Europe/Madrid;VALUE=DATE-TIME:20130623T113000
DTEND;TZID=Europe/Madrid;VALUE=DATE-TIME:20130623T123000
DTSTAMP;VALUE=DATE-TIME:20260423T034557Z
UID:a375c34087e15bf35e656f06791993e6
CREATED;VALUE=DATE-TIME:20130623T000000Z
LOCATION:1r pis del col·legi Yglesias
ORGANIZER:GEA XXI i Associació de veïns del Casc Antic
URL:https://www.canetdemar.cat/document.php?id=10658
END:VEVENT
END:VCALENDAR