BEGIN:VCALENDAR
VERSION:2.0
PRODID:-//Plone.org//NONSGML plone.app.event//EN
X-WR-TIMEZONE:Europe/Madrid
BEGIN:VEVENT
SUMMARY:Presentació del llibre Sociolingüística per a joves del segle XXI de Jordi Solé i Camardons
DTSTART;TZID=Europe/Madrid;VALUE=DATE-TIME:20131011T190000
DTEND;TZID=Europe/Madrid;VALUE=DATE-TIME:20131011T200000
DTSTAMP;VALUE=DATE-TIME:20260423T204922Z
UID:13421762fa9ead0c874fcf7705b56bd9
CREATED;VALUE=DATE-TIME:20131011T000000Z
CATEGORIES:Literatura
LOCATION:Biblioteca
ORGANIZER:Plataforma per la Llengua Canet de Mar - l'ONG del català
COMMENT:Preu: Gratuït
DESCRIPTION:L´acte inclou la lectura del manifest del Correllengua 2013 escrit pel filòsof Josep-Maria Terricabras
URL:https://www.canetdemar.cat/document.php?id=10625
END:VEVENT
END:VCALENDAR